BEGIN:VCALENDAR
PRODID:RAVE.CA V17.0
X-WR-CALNAME:Take Off 6
X-ORIGINAL-URL:https://www.rave.ca/event/6751/
VERSION:2.0
CALSCALE:GREGORIAN
METHOD:PUBLISH
BEGIN:VEVENT
DTSTAMP:20050524T000000Z
LAST-MODIFIED:20050524T000000Z
CREATED:20050520T000000Z
SEQUENCE:6751
ORGANIZER:Apocalyptics
DTSTART:20050521T210000Z
DTEND:20050521T210000Z
UID:event_6751@rave.ca
SUMMARY:Take Off 6
LOCATION:Take Off 6.0
URL:https://www.rave.ca/event/6751/
DESCRIPTION:[Salle Techno]\n\n21h00 - 22h30 Overproof [Qc ]\n22h30 - 00h00 John David [ Terminal Afterhours\, Qc]\n00h00 – 01h30 Parabolic [ Mtl ]\n01h30 - 03h00 A.R.D. [ Dagobert/Terminal Afterhours\, Qc. www.apocalyptics.com ]\n03h00 - 05h00 Darren Kay [ Dance Valley\, Rotterdam. www.udc.nl/ ]\n05h00 - 07h00 Preach [Relic/Ascend/Aria\, Mtl. www.djpreach.com ]\n07h00 - 09h00 Justin Time [Mtl ]\n09h00 – 11h00 Kid\, Terminal Afterhours\, Qc ]\n\n[ Salle House ]\n\n22h-12h Sphinx\, Element [Qc.] \n12h-2h Mike Sickini [ Dagobert/Terminal Afterhours. Qc]\n2h-4h Mycelium [ Glowzoo/Terminal Afterhours. Qc]\n4h-7h Onionz\, Electric Soul [6400 Crew. NYC\n7h -9h Marco G\, Dagobert/Aria/Terminal Afterhours. Qc www.djmarcog.com ]\n9h-11h Mat Vézina [Terminal Afterhours\, Qc.]
CLASS:PUBLIC
CATEGORIES:
STATUS:CONFIRMED
PARTSTAT:ACCEPTED
END:VEVENT
END:VCALENDAR
