BEGIN:VCALENDAR
PRODID:RAVE.CA V17.0
X-WR-CALNAME:Monkey Scene 3
X-ORIGINAL-URL:https://www.rave.ca/event/6738/
VERSION:2.0
CALSCALE:GREGORIAN
METHOD:PUBLISH
BEGIN:VEVENT
DTSTAMP:20050911T000000Z
LAST-MODIFIED:20050911T000000Z
CREATED:20050518T000000Z
SEQUENCE:6738
ORGANIZER:Purple Haze & Psymosfear Productions
DTSTART:20050910T000000Z
DTEND:20050910T000000Z
UID:event_6738@rave.ca
SUMMARY:Monkey Scene 3
LOCATION:Chill Montreal
URL:https://www.rave.ca/event/6738/
DESCRIPTION:
CLASS:PUBLIC
CATEGORIES:
STATUS:CONFIRMED
PARTSTAT:ACCEPTED
END:VEVENT
END:VCALENDAR
