BEGIN:VCALENDAR
PRODID:RAVE.CA V17.0
X-WR-CALNAME:Do Make Say Think - DJ Mini
X-ORIGINAL-URL:https://www.rave.ca/event/6734/
VERSION:2.0
CALSCALE:GREGORIAN
METHOD:PUBLISH
BEGIN:VEVENT
DTSTAMP:20050517T000000Z
LAST-MODIFIED:20050517T000000Z
CREATED:20050517T000000Z
SEQUENCE:6734
ORGANIZER:Unknown
DTSTART:20050706T000000Z
DTEND:20050706T000000Z
UID:event_6734@rave.ca
SUMMARY:Do Make Say Think - DJ Mini
LOCATION:Club Soda
URL:https://www.rave.ca/event/6734/
DESCRIPTION:Depuis dix ans\, ces Torontois déconstruisent les genres musicaux\, les hybrident avec audace et sophistication. La richesse orchestrale obtenue sur disque se transforme sur scène en puissante énergie\, semblable à celle de Jagga Jazzist\, mais dans des coloris davantage rock et électro. Place ensuite à la Montréalaise D.J. Mini\, célébrée mondialement pour son électro étonnant\, mâtiné de flashes punk rock\, industriels ou technos.
CLASS:PUBLIC
CATEGORIES:
STATUS:CONFIRMED
PARTSTAT:ACCEPTED
END:VEVENT
END:VCALENDAR
