BEGIN:VCALENDAR
PRODID:RAVE.CA V17.0
X-WR-CALNAME:Sase One, Spacekadet, Pinky 38, Criss &amp; Jesse, Deyond
X-ORIGINAL-URL:https://www.rave.ca/event/6709/
VERSION:2.0
CALSCALE:GREGORIAN
METHOD:PUBLISH
BEGIN:VEVENT
DTSTAMP:20050614T000000Z
LAST-MODIFIED:20050614T000000Z
CREATED:20050511T000000Z
SEQUENCE:6709
ORGANIZER:Frogland Breakers
DTSTART:20050611T220000Z
DTEND:20050611T220000Z
UID:event_6709@rave.ca
SUMMARY:Sase One\, Spacekadet\, Pinky 38\, Criss & Jesse\, Deyond
LOCATION:Soho\, Lounge
URL:https://www.rave.ca/event/6709/
DESCRIPTION:SASE ONE in a rare break set performance\nchris and jesse from australia /mtl these guys rocks!\nresident's: spacekadet\,pinky-38
CLASS:PUBLIC
CATEGORIES:
STATUS:CONFIRMED
PARTSTAT:ACCEPTED
END:VEVENT
END:VCALENDAR
