BEGIN:VCALENDAR
PRODID:RAVE.CA V17.0
X-WR-CALNAME:Embryon 3: The scary return of Lab4
X-ORIGINAL-URL:https://www.rave.ca/event/6696/
VERSION:2.0
CALSCALE:GREGORIAN
METHOD:PUBLISH
BEGIN:VEVENT
DTSTAMP:20070525T135006Z
LAST-MODIFIED:20070525T135006Z
CREATED:20050508T000000Z
SEQUENCE:6696
ORGANIZER:Sweetleaf
DTSTART:20051029T000000Z
DTEND:20051029T000000Z
UID:event_6696@rave.ca
SUMMARY:Embryon 3: The scary return of Lab4
LOCATION:Palais Du Bingo
URL:https://www.rave.ca/event/6696/
DESCRIPTION:Line Up Officiel de Embryon 3\n\n22h30 Ouverture des portes\n\n22h35 The Devil Reject Film\n\n0h00 @ 1ham Indica vs Pop-Eye - Sweet Leaf Prod-Stay Up Forever\nACID TECHNO DJ SET& FINAL SCRATCH\n\n1ham@2h30 Rowland The Bastard - Bionic Orange-Stay Up Forever London UK\nHARD BOOTY TECHNO DJ SET\n\n2h30@3h45 Dirty Bass - DB Rec-Ascend Records - London UK\nHARDTECHNOINDUSTRIELHOUSE LIVE PA\n\n3h45@5ham Lab 4 - Fragile rec-One inch rec-Tidy Trax rec - London UK\nHARD TRANCE LIVE PA\n\n5ham@6ham The Lou Cypher Project - Dynamix rec - Ottawa Canada\nHARD SATANIC TRANCE LIVE PA FULL SHOW WITH ACTORS\n\n6ham@7ham Indica vs S4 - Sweet Leaf Prod-Stay Up Forever-Dynamix rec - Montreal Ottawa\nINDUSTRIALMETALTECHNO SET - 6 DECK-3MIXER-2FINALSCRATCH-1SOUND!!!\n\n7ham@8h30 MAD - Madstation.net - Montreal\nHARDTRANCE DJ SET\n\n8h30@........ ASHLEY D - Sweet Leaf Prod - Ottawa\nACID TECHNO DJ SET\n\n19000 watts JBL Array\nplus de 20 lumieres robotisee\n3 Laser\n3 Ecran Geant\nDeco par Akarien\nSalle de 120pied par 120pied\nSecurite et premier soin sur place\nVisuel 3D\nRafraichissement a prix abordable\nParking Gratuit\nPlace Limitee a 1050 (nouvelle capacitee)\nEntrer 50$ Si Disponible\n\nMini set de Lab4 par Indica ..question de vous primé \;)\n http://www.globalsound.ca/download/SLP/Musics/Indica_ATributeToLab4_2005.mp3\n\n\nConcernant Mark EG: Pour faire une histoire courte\,on doit reporter sa venu a 2006 \, paperasse compliquer et demarche couteuse sont les raison principale \, Mark et SLP vous promettre le rendez vous tant attendu pour lannee 2006 \, a compter de janvier \, le dossier de Mark redevient a la normal\, donc un autre 6 mois de patience \, merci de comprendre \n\nBonne Vacance
CLASS:PUBLIC
CATEGORIES:
STATUS:CONFIRMED
PARTSTAT:ACCEPTED
END:VEVENT
END:VCALENDAR
