BEGIN:VCALENDAR
PRODID:RAVE.CA V17.0
X-WR-CALNAME:Darren Kay, Preach
X-ORIGINAL-URL:https://www.rave.ca/event/6662/
VERSION:2.0
CALSCALE:GREGORIAN
METHOD:PUBLISH
BEGIN:VEVENT
DTSTAMP:20050506T000000Z
LAST-MODIFIED:20050506T000000Z
CREATED:20050506T000000Z
SEQUENCE:6662
ORGANIZER:Unknown
DTSTART:20050520T000000Z
DTEND:20050520T000000Z
UID:event_6662@rave.ca
SUMMARY:Darren Kay\, Preach
LOCATION:Aria\, Afterhours
URL:https://www.rave.ca/event/6662/
DESCRIPTION:
CLASS:PUBLIC
CATEGORIES:
STATUS:CONFIRMED
PARTSTAT:ACCEPTED
END:VEVENT
END:VCALENDAR
