BEGIN:VCALENDAR
PRODID:RAVE.CA V17.0
X-WR-CALNAME:Mini, Marco G
X-ORIGINAL-URL:https://www.rave.ca/event/6649/
VERSION:2.0
CALSCALE:GREGORIAN
METHOD:PUBLISH
BEGIN:VEVENT
DTSTAMP:20050506T000000Z
LAST-MODIFIED:20050506T000000Z
CREATED:20050506T000000Z
SEQUENCE:6649
ORGANIZER:Unknown
DTSTART:20050513T000000Z
DTEND:20050513T000000Z
UID:event_6649@rave.ca
SUMMARY:Mini\, Marco G
LOCATION:Aria\, Afterhours
URL:https://www.rave.ca/event/6649/
DESCRIPTION:
CLASS:PUBLIC
CATEGORIES:
STATUS:CONFIRMED
PARTSTAT:ACCEPTED
END:VEVENT
END:VCALENDAR
