BEGIN:VCALENDAR
PRODID:RAVE.CA V17.0
X-WR-CALNAME:Green Velvet, Creator
X-ORIGINAL-URL:https://www.rave.ca/event/6638/
VERSION:2.0
CALSCALE:GREGORIAN
METHOD:PUBLISH
BEGIN:VEVENT
DTSTAMP:20050506T000000Z
LAST-MODIFIED:20050506T000000Z
CREATED:20050506T000000Z
SEQUENCE:6638
ORGANIZER:Unknown
DTSTART:20050507T000000Z
DTEND:20050507T000000Z
UID:event_6638@rave.ca
SUMMARY:Green Velvet\, Creator
LOCATION:Aria\, Afterhours
URL:https://www.rave.ca/event/6638/
DESCRIPTION:Rave Montreal @ Aria
CLASS:PUBLIC
CATEGORIES:
STATUS:CONFIRMED
PARTSTAT:ACCEPTED
END:VEVENT
END:VCALENDAR
