BEGIN:VCALENDAR
PRODID:RAVE.CA V17.0
X-WR-CALNAME:X-plosion
X-ORIGINAL-URL:https://www.rave.ca/event/6553/
VERSION:2.0
CALSCALE:GREGORIAN
METHOD:PUBLISH
BEGIN:VEVENT
DTSTAMP:20050430T000000Z
LAST-MODIFIED:20050430T000000Z
CREATED:20050430T000000Z
SEQUENCE:6553
ORGANIZER:Unknown
DTSTART:20021207T220000Z
DTEND:20021207T220000Z
UID:event_6553@rave.ca
SUMMARY:X-plosion
LOCATION:Unknown
URL:https://www.rave.ca/event/6553/
DESCRIPTION:-Voiz\n-Drixx\n-GO Brien\n-Preach\n-A.R.D TAG Urania\n-Banging Mark\n-Pop Eye\n\n+ 2em salle\n\n-Cyre\n-Casper\n-Timewave\n-Freeze\n-Neo tha woopecka\n-Fourmiz\n-J. the Ripper
CLASS:PUBLIC
CATEGORIES:
STATUS:CONFIRMED
PARTSTAT:ACCEPTED
END:VEVENT
END:VCALENDAR
