BEGIN:VCALENDAR
PRODID:RAVE.CA V17.0
X-WR-CALNAME:Overdrive
X-ORIGINAL-URL:https://www.rave.ca/event/6474/
VERSION:2.0
CALSCALE:GREGORIAN
METHOD:PUBLISH
BEGIN:VEVENT
DTSTAMP:20050526T000000Z
LAST-MODIFIED:20050526T000000Z
CREATED:20050423T000000Z
SEQUENCE:6474
ORGANIZER:Unknown
DTSTART:20050521T210000Z
DTEND:20050521T210000Z
UID:event_6474@rave.ca
SUMMARY:Overdrive
LOCATION:Cafe Dekuf/Mavericks
URL:https://www.rave.ca/event/6474/
DESCRIPTION:Revival Presents:\n\n[b]Overdrive[/b]\nSaturday May 21st\, 2005\nOttawa\, Canada\n\n\n[B][U]Main Room[/U][/B]\n\n[B]Jare Fox w/ MC Dynamic[/B] (Joekerland/Airhead - Rochester NY)  – Happy Hardcore/Drum & Bass\n\nThe US East Coast's most beloved Happy Hardcore DJ comes to Ottawa to lay down some of the cheesiest unreleased HHC and the darkest D’n’B. He’ll be bringing with him the incredible Dynamic MC\, New York’s top master of ceremonies. \n\n[B] DJ Mad [/B] (Fevah Records\, Madstation.net - Montreal) - Hard Trance\nWith his insane energy\, incredible track selection\, awesome stage presence\, and over 125 past gigs DJ Mad is without a doubt Montreal’s #1 Trance DJ.\n\n[B]Tyrant [/B] (Hard Science - Toronto) - Freeform\nA leading pioneer of Freeform in Canada\, Tyrant has been pounding it down fast and hard for over 5 years. Don’t miss out as this Ottawa favorite returns to kick our asses! \n\n[B]Ext [/B] (Kanibalz) - Hardcore\n[B]Emm [/B] (Revival/The Short List) – Energy Trance\n[B]Pornstar Rob [/B] (The House That Rave Built – Bonnerland USA)  – Happy Hardcore/Freeform\n\n[B][U]2nd Room[/U][/B]\n\n[B]DJ Hashek[/B] (Gunz & Bomz/Teknoturtle) - 3 Turntable Hard Techno \n[B]Bowzer[/B] (www.bowzer.net) – 3 Turntable Super Set\n[B]Chakra V[/B] (Velvet/Revival) - Trance\n[B]Data Decay vs Psycronik [/B] (FAK ) - Psytrance\n[B]Rob Black [/B] (Revival) – Hard Trance
CLASS:PUBLIC
CATEGORIES:
STATUS:CONFIRMED
PARTSTAT:ACCEPTED
END:VEVENT
END:VCALENDAR
