BEGIN:VCALENDAR
PRODID:RAVE.CA V17.0
X-WR-CALNAME:Bedroom 2
X-ORIGINAL-URL:https://www.rave.ca/event/645/
VERSION:2.0
CALSCALE:GREGORIAN
METHOD:PUBLISH
BEGIN:VEVENT
DTSTAMP:20040401T010000Z
LAST-MODIFIED:20040401T010000Z
CREATED:20011102T010000Z
SEQUENCE:645
ORGANIZER:Hardkore Pussy
DTSTART:20011102T010000Z
DTEND:20011102T010000Z
UID:event_645@rave.ca
SUMMARY:Bedroom 2
LOCATION:Unknown
URL:https://www.rave.ca/event/645/
DESCRIPTION:
CLASS:PUBLIC
CATEGORIES:
STATUS:CONFIRMED
PARTSTAT:ACCEPTED
END:VEVENT
END:VCALENDAR
