BEGIN:VCALENDAR
PRODID:RAVE.CA V17.0
X-WR-CALNAME:Lady White
X-ORIGINAL-URL:https://www.rave.ca/event/6441/
VERSION:2.0
CALSCALE:GREGORIAN
METHOD:PUBLISH
BEGIN:VEVENT
DTSTAMP:20080523T113230Z
LAST-MODIFIED:20080523T113230Z
CREATED:20050415T000000Z
SEQUENCE:6441
ORGANIZER:Lezarium Production
DTSTART:20050422T220000Z
DTEND:20050422T220000Z
UID:event_6441@rave.ca
SUMMARY:Lady White
LOCATION:Chill Montreal
URL:https://www.rave.ca/event/6441/
DESCRIPTION:Party House au Chill!!! Lady's Night - 1/2 prix pour les femmes!!!
CLASS:PUBLIC
CATEGORIES:
STATUS:CONFIRMED
PARTSTAT:ACCEPTED
END:VEVENT
END:VCALENDAR
