BEGIN:VCALENDAR
PRODID:RAVE.CA V17.0
X-WR-CALNAME:Mini
X-ORIGINAL-URL:https://www.rave.ca/event/6419/
VERSION:2.0
CALSCALE:GREGORIAN
METHOD:PUBLISH
BEGIN:VEVENT
DTSTAMP:20050506T000000Z
LAST-MODIFIED:20050506T000000Z
CREATED:20050414T000000Z
SEQUENCE:6419
ORGANIZER:Unknown
DTSTART:20050414T000000Z
DTEND:20050414T000000Z
UID:event_6419@rave.ca
SUMMARY:Mini
LOCATION:Parking\, Club
URL:https://www.rave.ca/event/6419/
DESCRIPTION:Overdose est la meilleur soirée a Montreal (ICI Montreal 2004). Les meilleurs artistes de la scène électro montréalaise et mondiale y performe chaque semaine pour le plaisir d'une clientèle jeune et branché.
CLASS:PUBLIC
CATEGORIES:
STATUS:CONFIRMED
PARTSTAT:ACCEPTED
END:VEVENT
END:VCALENDAR
