BEGIN:VCALENDAR
PRODID:RAVE.CA V17.0
X-WR-CALNAME:Felix Da Housecat
X-ORIGINAL-URL:https://www.rave.ca/event/6383/
VERSION:2.0
CALSCALE:GREGORIAN
METHOD:PUBLISH
BEGIN:VEVENT
DTSTAMP:20050429T000000Z
LAST-MODIFIED:20050429T000000Z
CREATED:20050408T000000Z
SEQUENCE:6383
ORGANIZER:Unknown
DTSTART:20050429T000000Z
DTEND:20050429T000000Z
UID:event_6383@rave.ca
SUMMARY:Felix Da Housecat
LOCATION:Dome
URL:https://www.rave.ca/event/6383/
DESCRIPTION:http://www.space32.com
CLASS:PUBLIC
CATEGORIES:
STATUS:CONFIRMED
PARTSTAT:ACCEPTED
END:VEVENT
END:VCALENDAR
