BEGIN:VCALENDAR
PRODID:RAVE.CA V17.0
X-WR-CALNAME:Maus, Eddy Jasmin
X-ORIGINAL-URL:https://www.rave.ca/event/6324/
VERSION:2.0
CALSCALE:GREGORIAN
METHOD:PUBLISH
BEGIN:VEVENT
DTSTAMP:20050402T010000Z
LAST-MODIFIED:20050402T010000Z
CREATED:20050402T010000Z
SEQUENCE:6324
ORGANIZER:Unknown
DTSTART:20050409T000000Z
DTEND:20050409T000000Z
UID:event_6324@rave.ca
SUMMARY:Maus\, Eddy Jasmin
LOCATION:Aria\, Afterhours
URL:https://www.rave.ca/event/6324/
DESCRIPTION:
CLASS:PUBLIC
CATEGORIES:
STATUS:CONFIRMED
PARTSTAT:ACCEPTED
END:VEVENT
END:VCALENDAR
