BEGIN:VCALENDAR
PRODID:RAVE.CA V17.0
X-WR-CALNAME:JPX, Marco G
X-ORIGINAL-URL:https://www.rave.ca/event/6323/
VERSION:2.0
CALSCALE:GREGORIAN
METHOD:PUBLISH
BEGIN:VEVENT
DTSTAMP:20050402T010000Z
LAST-MODIFIED:20050402T010000Z
CREATED:20050402T010000Z
SEQUENCE:6323
ORGANIZER:Unknown
DTSTART:20050408T000000Z
DTEND:20050408T000000Z
UID:event_6323@rave.ca
SUMMARY:JPX\, Marco G
LOCATION:Aria\, Afterhours
URL:https://www.rave.ca/event/6323/
DESCRIPTION:
CLASS:PUBLIC
CATEGORIES:
STATUS:CONFIRMED
PARTSTAT:ACCEPTED
END:VEVENT
END:VCALENDAR
