BEGIN:VCALENDAR
PRODID:RAVE.CA V17.0
X-WR-CALNAME:Lundi Duff  chez Mo
X-ORIGINAL-URL:https://www.rave.ca/event/6208/
VERSION:2.0
CALSCALE:GREGORIAN
METHOD:PUBLISH
BEGIN:VEVENT
DTSTAMP:20050330T010000Z
LAST-MODIFIED:20050330T010000Z
CREATED:20050330T010000Z
SEQUENCE:6208
ORGANIZER:Unknown
DTSTART:20050404T000000Z
DTEND:20050404T000000Z
UID:event_6208@rave.ca
SUMMARY:Lundi Duff  chez Mo
LOCATION:Mo
URL:https://www.rave.ca/event/6208/
DESCRIPTION:Charlot et samo vous invitent a venir commencer la semaine avec les sonorités recherchées du micro-house\, du minimal house\, du electro et quelques fois du rock. \n\nplaisir garantie dans un environnement sans fumée. \n\nPrix sur la pinte de Duff\n\n
CLASS:PUBLIC
CATEGORIES:
STATUS:CONFIRMED
PARTSTAT:ACCEPTED
END:VEVENT
END:VCALENDAR
