BEGIN:VCALENDAR
PRODID:RAVE.CA V17.0
X-WR-CALNAME:Vans Warped Tour 2k5
X-ORIGINAL-URL:https://www.rave.ca/event/6122/
VERSION:2.0
CALSCALE:GREGORIAN
METHOD:PUBLISH
BEGIN:VEVENT
DTSTAMP:20050623T000000Z
LAST-MODIFIED:20050623T000000Z
CREATED:20050317T010000Z
SEQUENCE:6122
ORGANIZER:Unknown
DTSTART:20050729T120000Z
DTEND:20050729T120000Z
UID:event_6122@rave.ca
SUMMARY:Vans Warped Tour 2k5
LOCATION:hippodrome de montreal
URL:https://www.rave.ca/event/6122/
DESCRIPTION:NORTH STAGE\n\nThe Transplants \nFall Out Boy \nMCR \nThe Offspring \nStrung Out \nRelient K \nDropkick Murphy's \nThrice \nMest \n\nSOUTH STAGE\n\nThe Starting Line \nSenses Fail \nMXPX \nAvenged Sevenfold \nMatchbook Romance \nAtreyu \nMillencolin \n\nMAURICE STAGE\n\nMotion City Soundtrack \nMae \nHawthorne Heights \nReggie & the Full Effect \nKinison \nFuneral For A Friend \nThe Bled \nSaosin \nOver It \n\nVOLCOM STAGE\n\nAnother Damn Diss \nValient Thorr \nAcademy Is \nAmber Pacific \nLost City Angels \nThe Fight \nGo Betty Go \nBedouin Sound Clash \nNear Miss \n\nLYMAN SAYS \n\nMike Got Spiked \nNo Comply \nCloset Monster \nThe Real Deal \nHigh Deafinition \nIll Scarlet \nWho Needs Shoes? \nCrush Luther
CLASS:PUBLIC
CATEGORIES:
STATUS:CONFIRMED
PARTSTAT:ACCEPTED
END:VEVENT
END:VCALENDAR
