BEGIN:VCALENDAR
PRODID:RAVE.CA V17.0
X-WR-CALNAME:Fantomas, The Locust, Trevor Dunn&#039;s Trio Convulsant
X-ORIGINAL-URL:https://www.rave.ca/event/6085/
VERSION:2.0
CALSCALE:GREGORIAN
METHOD:PUBLISH
BEGIN:VEVENT
DTSTAMP:20050411T000000Z
LAST-MODIFIED:20050411T000000Z
CREATED:20050312T000000Z
SEQUENCE:6085
ORGANIZER:Unknown
DTSTART:20050414T210000Z
DTEND:20050414T210000Z
UID:event_6085@rave.ca
SUMMARY:Fantomas\, The Locust\, Trevor Dunn's Trio Convulsant
LOCATION:Spectrum
URL:https://www.rave.ca/event/6085/
DESCRIPTION:http://www.ipecac.com/\nhttp://www.thelocust.com/\nhttp://trevordunn.n3.net/
CLASS:PUBLIC
CATEGORIES:
STATUS:CONFIRMED
PARTSTAT:ACCEPTED
END:VEVENT
END:VCALENDAR
