BEGIN:VCALENDAR
PRODID:RAVE.CA V17.0
X-WR-CALNAME:Atreyu
X-ORIGINAL-URL:https://www.rave.ca/event/6064/
VERSION:2.0
CALSCALE:GREGORIAN
METHOD:PUBLISH
BEGIN:VEVENT
DTSTAMP:20050308T000000Z
LAST-MODIFIED:20050308T000000Z
CREATED:20050308T000000Z
SEQUENCE:6064
ORGANIZER:Unknown
DTSTART:20050307T000000Z
DTEND:20050307T000000Z
UID:event_6064@rave.ca
SUMMARY:Atreyu
LOCATION:Spectrum
URL:https://www.rave.ca/event/6064/
DESCRIPTION:
CLASS:PUBLIC
CATEGORIES:
STATUS:CONFIRMED
PARTSTAT:ACCEPTED
END:VEVENT
END:VCALENDAR
