BEGIN:VCALENDAR
PRODID:RAVE.CA V17.0
X-WR-CALNAME:Cephalic Carnage, Dead To Fall, The Gorgeous
X-ORIGINAL-URL:https://www.rave.ca/event/6059/
VERSION:2.0
CALSCALE:GREGORIAN
METHOD:PUBLISH
BEGIN:VEVENT
DTSTAMP:20050331T010000Z
LAST-MODIFIED:20050331T010000Z
CREATED:20050307T000000Z
SEQUENCE:6059
ORGANIZER:Unknown
DTSTART:20050427T200000Z
DTEND:20050427T200000Z
UID:event_6059@rave.ca
SUMMARY:Cephalic Carnage\, Dead To Fall\, The Gorgeous
LOCATION:El Salon
URL:https://www.rave.ca/event/6059/
DESCRIPTION:http://www.extensive.addiktive.com/\nhttp://cephaliccarnage.infamos.com/\nhttp://www.deadtofall.com/
CLASS:PUBLIC
CATEGORIES:
STATUS:CONFIRMED
PARTSTAT:ACCEPTED
END:VEVENT
END:VCALENDAR
