BEGIN:VCALENDAR
PRODID:RAVE.CA V17.0
X-WR-CALNAME:Lil Dave
X-ORIGINAL-URL:https://www.rave.ca/event/5998/
VERSION:2.0
CALSCALE:GREGORIAN
METHOD:PUBLISH
BEGIN:VEVENT
DTSTAMP:20050305T000000Z
LAST-MODIFIED:20050305T000000Z
CREATED:20050305T000000Z
SEQUENCE:5998
ORGANIZER:Unknown
DTSTART:20050320T010000Z
DTEND:20050320T010000Z
UID:event_5998@rave.ca
SUMMARY:Lil Dave
LOCATION:Parking\, Club
URL:https://www.rave.ca/event/5998/
DESCRIPTION:
CLASS:PUBLIC
CATEGORIES:
STATUS:CONFIRMED
PARTSTAT:ACCEPTED
END:VEVENT
END:VCALENDAR
