BEGIN:VCALENDAR
PRODID:RAVE.CA V17.0
X-WR-CALNAME:Rugged Culture all ages event series
X-ORIGINAL-URL:https://www.rave.ca/event/5872/
VERSION:2.0
CALSCALE:GREGORIAN
METHOD:PUBLISH
BEGIN:VEVENT
DTSTAMP:20050227T000000Z
LAST-MODIFIED:20050227T000000Z
CREATED:20050227T000000Z
SEQUENCE:5872
ORGANIZER:Unknown
DTSTART:20050304T000000Z
DTEND:20050304T000000Z
UID:event_5872@rave.ca
SUMMARY:Rugged Culture all ages event series
LOCATION:Unknown
URL:https://www.rave.ca/event/5872/
DESCRIPTION:A highly anticipated all ages event\, arrive early to avoid disapointment..... 19+ drinking area upstairs with ID. \n\nMore info coming soon.... \n
CLASS:PUBLIC
CATEGORIES:
STATUS:CONFIRMED
PARTSTAT:ACCEPTED
END:VEVENT
END:VCALENDAR
