BEGIN:VCALENDAR
PRODID:RAVE.CA V17.0
X-WR-CALNAME:Friendship 3
X-ORIGINAL-URL:https://www.rave.ca/event/5848/
VERSION:2.0
CALSCALE:GREGORIAN
METHOD:PUBLISH
BEGIN:VEVENT
DTSTAMP:20050320T010000Z
LAST-MODIFIED:20050320T010000Z
CREATED:20050224T000000Z
SEQUENCE:5848
ORGANIZER:Freak Patrol
DTSTART:20050430T000000Z
DTEND:20050430T000000Z
UID:event_5848@rave.ca
SUMMARY:Friendship 3
LOCATION:Complexe Méduse
URL:https://www.rave.ca/event/5848/
DESCRIPTION:[i]Some things are made to always last...\nLike real friends[/i]\n\n\nUrban Room\nFreak Room\n\n
CLASS:PUBLIC
CATEGORIES:
STATUS:CONFIRMED
PARTSTAT:ACCEPTED
END:VEVENT
END:VCALENDAR
