BEGIN:VCALENDAR
PRODID:RAVE.CA V17.0
X-WR-CALNAME:Universalisation
X-ORIGINAL-URL:https://www.rave.ca/event/57/
VERSION:2.0
CALSCALE:GREGORIAN
METHOD:PUBLISH
BEGIN:VEVENT
DTSTAMP:20040325T010000Z
LAST-MODIFIED:20040325T010000Z
CREATED:20000303T000000Z
SEQUENCE:57
ORGANIZER:Shakra Productions
DTSTART:20000303T000000Z
DTEND:20000303T000000Z
UID:event_57@rave.ca
SUMMARY:Universalisation
LOCATION:Unknown
URL:https://www.rave.ca/event/57/
DESCRIPTION:
CLASS:PUBLIC
CATEGORIES:
STATUS:CONFIRMED
PARTSTAT:ACCEPTED
END:VEVENT
END:VCALENDAR
