BEGIN:VCALENDAR
PRODID:RAVE.CA V17.0
X-WR-CALNAME:pertinence @ rouje
X-ORIGINAL-URL:https://www.rave.ca/event/5630/
VERSION:2.0
CALSCALE:GREGORIAN
METHOD:PUBLISH
BEGIN:VEVENT
DTSTAMP:20050329T010000Z
LAST-MODIFIED:20050329T010000Z
CREATED:20050130T000000Z
SEQUENCE:5630
ORGANIZER:Unknown
DTSTART:20050409T000000Z
DTEND:20050409T000000Z
UID:event_5630@rave.ca
SUMMARY:pertinence @ rouje
LOCATION:Rouje
URL:https://www.rave.ca/event/5630/
DESCRIPTION:soirée de music electronique\n\navec live acts de\n\n-naw\n( www.noisefactory.com ) / montreal\n(qui lancera sont album ''terrain vague'' sur pertin_nce !!! )\n\net nos heros de quebec\n\n-dj more *dj\n-bleupulp *dj\n-matt f *live\n-george *dj + visuals\n(le bonjour quebec crew)\n\n- stephane parent *dj (platine / statik)\n(proprietaire et fondateur de platine le discaire / statik \, il fera un retour au tables apres plus de 10 ans d'absence )\n\n-fallen *live\n(aussi fallen presentera ses creations vestimentaire)\n\n\n- Exposition de créations originales de finissants en design de mode du Campus Notre-Dame-de-Foy.\n\n@ la gallerie rouje / quebec / 8pm / 5$\n\ngroovy style !!!\n\nwww.pertin-nce.com \n\n
CLASS:PUBLIC
CATEGORIES:
STATUS:CONFIRMED
PARTSTAT:ACCEPTED
END:VEVENT
END:VCALENDAR
