BEGIN:VCALENDAR
PRODID:RAVE.CA V17.0
X-WR-CALNAME:Inebriation
X-ORIGINAL-URL:https://www.rave.ca/event/5602/
VERSION:2.0
CALSCALE:GREGORIAN
METHOD:PUBLISH
BEGIN:VEVENT
DTSTAMP:20050215T000000Z
LAST-MODIFIED:20050215T000000Z
CREATED:20050126T000000Z
SEQUENCE:5602
ORGANIZER:Unknown
DTSTART:20050225T210000Z
DTEND:20050225T210000Z
UID:event_5602@rave.ca
SUMMARY:Inebriation
LOCATION:Ottawa - Acqua Bar
URL:https://www.rave.ca/event/5602/
DESCRIPTION:The second installment of the Inebriated series brings you the absolute best that Ottawa has to offer in terms of trance\, techno\, and good old fashioned drunken fun.
CLASS:PUBLIC
CATEGORIES:
STATUS:CONFIRMED
PARTSTAT:ACCEPTED
END:VEVENT
END:VCALENDAR
