BEGIN:VCALENDAR
PRODID:RAVE.CA V17.0
X-WR-CALNAME:Velocity
X-ORIGINAL-URL:https://www.rave.ca/event/56/
VERSION:2.0
CALSCALE:GREGORIAN
METHOD:PUBLISH
BEGIN:VEVENT
DTSTAMP:20040325T010000Z
LAST-MODIFIED:20040325T010000Z
CREATED:20000226T000000Z
SEQUENCE:56
ORGANIZER:Urban Sound Resistance
DTSTART:20000226T000000Z
DTEND:20000226T000000Z
UID:event_56@rave.ca
SUMMARY:Velocity
LOCATION:Unknown
URL:https://www.rave.ca/event/56/
DESCRIPTION:
CLASS:PUBLIC
CATEGORIES:
STATUS:CONFIRMED
PARTSTAT:ACCEPTED
END:VEVENT
END:VCALENDAR
