BEGIN:VCALENDAR
PRODID:RAVE.CA V17.0
X-WR-CALNAME:CiDB,, Hyena,, Iodine,, Sargassum
X-ORIGINAL-URL:https://www.rave.ca/event/54208/
VERSION:2.0
CALSCALE:GREGORIAN
METHOD:PUBLISH
BEGIN:VEVENT
DTSTAMP:20260423T142120Z
LAST-MODIFIED:20260423T142120Z
CREATED:20260423T142104Z
SEQUENCE:54208
ORGANIZER:Unknown
DTSTART:20240329T210000Z
DTEND:20240329T210000Z
UID:event_54208@rave.ca
SUMMARY:CiDB\,\, Hyena\,\, Iodine\,\, Sargassum
LOCATION:Traxide
URL:https://www.rave.ca/event/54208/
DESCRIPTION:Come celebrate Jay's birthday with a hardcore show\n\nCiDB // MTL\, Mosh music\n\nHyena // Ottawa\, Metalcore\n\nIodine // Toronto\, Hardcore\n\nSargassum // MTL\, Grind\n\nMarch 29th 2024\n\nDoors 9PM Show 9:30PM\n\n10$\n\nTraxide- Ask a punk for adress\n\nSOURCE: https://montreal.askapunk.net/event/cidb-hyena-iodine-sargassum-march-29th-traxide/
CLASS:PUBLIC
CATEGORIES:
STATUS:CONFIRMED
PARTSTAT:ACCEPTED
END:VEVENT
END:VCALENDAR
