BEGIN:VCALENDAR
PRODID:RAVE.CA V17.0
X-WR-CALNAME:Strapping Young Lad, The Agony Scene, Reflux, Misery Signals
X-ORIGINAL-URL:https://www.rave.ca/event/5420/
VERSION:2.0
CALSCALE:GREGORIAN
METHOD:PUBLISH
BEGIN:VEVENT
DTSTAMP:20050331T010000Z
LAST-MODIFIED:20050331T010000Z
CREATED:20050106T000000Z
SEQUENCE:5420
ORGANIZER:Unknown
DTSTART:20050418T190000Z
DTEND:20050418T190000Z
UID:event_5420@rave.ca
SUMMARY:Strapping Young Lad\, The Agony Scene\, Reflux\, Misery Signals
LOCATION:Café Campus
URL:https://www.rave.ca/event/5420/
DESCRIPTION:www.braveconcerts.com\nwww.strappingyounglad.com
CLASS:PUBLIC
CATEGORIES:
STATUS:CONFIRMED
PARTSTAT:ACCEPTED
END:VEVENT
END:VCALENDAR
