BEGIN:VCALENDAR
PRODID:RAVE.CA V17.0
X-WR-CALNAME:90s Skate Punk Cover Show
X-ORIGINAL-URL:https://www.rave.ca/event/53983/
VERSION:2.0
CALSCALE:GREGORIAN
METHOD:PUBLISH
BEGIN:VEVENT
DTSTAMP:20260423T045627Z
LAST-MODIFIED:20260423T045627Z
CREATED:20260423T045616Z
SEQUENCE:53983
ORGANIZER:Unknown
DTSTART:20240706T200000Z
DTEND:20240706T200000Z
UID:event_53983@rave.ca
SUMMARY:90s Skate Punk Cover Show
LOCATION:Turbo Haus
URL:https://www.rave.ca/event/53983/
DESCRIPTION:THE DREAM OF 90'S SOUTHERN CALIFORNIA IS ALIVE AT TURBO HAUS ON JULY 6TH!\n\n\n\nFeaturing:\n\n- MILLENCOLIN\n\n- FACE TO FACE\n\n- NOFX\n\n- GREEN DAY (The Lookout Years!)\n\n\n\nAll proceeds go to Safe Refuge (https://www.safe-refuge.org/\nhttps://www.safe-refuge.org\n\n\n\n8PM // $5\n\nTURBO HAUS (2040 ST-DENIS)\n\n\n\nC U IN DA PIT\n\nSOURCE: https://montreal.askapunk.net/event/90s-skate-punk-cover-show/
CLASS:PUBLIC
CATEGORIES:
STATUS:CONFIRMED
PARTSTAT:ACCEPTED
END:VEVENT
END:VCALENDAR
