BEGIN:VCALENDAR
PRODID:RAVE.CA V17.0
X-WR-CALNAME:1er Mai - LEE REED (ON), Jetsam, Union Thugs, Kon-Fusion, Sistema De Muerte, L R
X-ORIGINAL-URL:https://www.rave.ca/event/53976/
VERSION:2.0
CALSCALE:GREGORIAN
METHOD:PUBLISH
BEGIN:VEVENT
DTSTAMP:20260423T045131Z
LAST-MODIFIED:20260423T045131Z
CREATED:20260423T045117Z
SEQUENCE:53976
ORGANIZER:Unknown
DTSTART:20250501T200000Z
DTEND:20250501T200000Z
UID:event_53976@rave.ca
SUMMARY:1er Mai - LEE REED (ON)\, Jetsam\, Union Thugs\, Kon-Fusion\, Sistema De Muerte\, L R
LOCATION:Bâtiment 7
URL:https://www.rave.ca/event/53976/
DESCRIPTION:1er mai RAGER - deux scènes\, musique non-stop // May Day RAGER - two stages\,\nnon-stop music\n\nUn spectacle-bénéfice pour les travailleurs migrants pour la journée\ninternationale des travailleuses et des travailleurs // A benefit show for\nmigrant workers for International Workers' Day\n\nTous les fonds seront remis à Solidarité sans frontières/Solidarity across\nborders/Solidaridad sin frontera // All the funds raised will be donated to\nSolidarité sans frontières/Solidarity across borders/Solidaridad sin frontera\n\nAvec // with\n\nLEE REED (anarchist rap / Hamilton\, ON)\n\nhttps://leereed.bandcamp.com/ https://leereed.bandcamp.com\n\nJETSAM (trans anarchist powerviolence / Montréal)\n\nhttps://jetsammtl.bandcamp.com https://jetsammtl.bandcamp.com\n\nUNION THUGS (Folk-Rock & Oi! de Grève / Montréal)\n\nhttps://unionthugs.bandcamp.com https://unionthugs.bandcamp.com\n\nSISTEMA DE MUERTE (Hardcore / Montréal)\n\nhttps://sistemademuerte.bandcamp.com/album/sistema-de-muerte\n\nL RO (Hip-hop / Montréal)\n\nhttps://lrobta.bandcamp.com/album/105 https://lrobta.bandcamp.com/album/105\n\nKON-FUSION (Cumbia / Montréal)\n\nhttps://www.kon-fusion.net/ https://www.kon-fusion.net\n\nSENTAI DUB ATTACK (Dub Reggae Cumbia / Montréal)\n\nhttps://sentaidubattack.bandcamp.com/releases\n\n+\n\ndes visuels riot porn par // riot porn visuals by SUB.MEDIA http://sub.media\n(https://sub.media) https://sub.media\n\nIWW\n\nLeft Wing Books\n\net plus! // and more!\n\n*******\n\nPortes // Doors - 20h\n\nMusique // Music - 20h30\n\nDon suggéré à la porte // Suggested donation at the door - 20$\n\nPersonne ne sera refusé par manque de fonds // No one turned away for lack of\nfunds\n\n*************\n\nPolitique de sécurité et de respect de l'événement : Nous nous engageons à créer\nun environnement sûr\, inclusif et accueillant pour toutes les personnes\nparticipantes.\n\nPolitique de tolérance zéro : Les comportements racistes\, transphobes\,\ncapacitistes et haineux en général ainsi que le harcèlement ou tout comportement\nqui fait que les autres se sentent en danger ou indésirables entraîneront\nl'expulsion immédiate de l'événement.\n\n//\n\nEvent safety and respect policy: We are committed to creating a safe\, inclusive\nand welcoming environment for all participants.\n\nZero tolerance policy: Racist\, transphobic\, ableist and generally hateful\nbehaviour as well as harassment or any behaviour that makes others feel unsafe\nor unwanted will result in immediate expulsion from the event.\n\nSOURCE: https://montreal.askapunk.net/event/1er-mai-lee-reed-on-jetsam-union-thugs-kon-fusion-sistema-de-muerte-l-ro-sentai-dub-attack/
CLASS:PUBLIC
CATEGORIES:
STATUS:CONFIRMED
PARTSTAT:ACCEPTED
END:VEVENT
END:VCALENDAR
