BEGIN:VCALENDAR
PRODID:RAVE.CA V17.0
X-WR-CALNAME:PARTAY DE SOUS-SOL, BASEMENT PARTY
X-ORIGINAL-URL:https://www.rave.ca/event/53527/
VERSION:2.0
CALSCALE:GREGORIAN
METHOD:PUBLISH
BEGIN:VEVENT
DTSTAMP:20260311T151425Z
LAST-MODIFIED:20260311T151425Z
CREATED:20260310T235350Z
SEQUENCE:53527
ORGANIZER:Unknown
DTSTART:20260312T210000Z
DTEND:20260313T030000Z
UID:event_53527@rave.ca
SUMMARY:PARTAY DE SOUS-SOL\, BASEMENT PARTY
LOCATION:Le Red Room
URL:https://www.rave.ca/event/53527/
DESCRIPTION:21H: RECCO | Deep house\n\n22H: BOLD | Prog / Deep house\n\n23H: BOLD B2B SAPRA | Tech House\n\n00H: SAPRA | Peak Time / Hard Techno\n\n1H30: NYXAR | Bass House / Dubstep / DNB
CLASS:PUBLIC
CATEGORIES:
STATUS:CONFIRMED
PARTSTAT:ACCEPTED
END:VEVENT
END:VCALENDAR
