BEGIN:VCALENDAR
PRODID:RAVE.CA V17.0
X-WR-CALNAME:YOUBET
X-ORIGINAL-URL:https://www.rave.ca/event/53511/
VERSION:2.0
CALSCALE:GREGORIAN
METHOD:PUBLISH
BEGIN:VEVENT
DTSTAMP:20260422T154039Z
LAST-MODIFIED:20260422T154039Z
CREATED:20260310T172340Z
SEQUENCE:53511
ORGANIZER:Unknown
DTSTART:20260711T203000Z
DTEND:20260711T203000Z
UID:event_53511@rave.ca
SUMMARY:YOUBET
LOCATION:Turbo Haüs
URL:https://www.rave.ca/event/53511/
DESCRIPTION:YOUBET\nhttps://youbetband.bandcamp.com/\nINVITÉ(E)S\nPrésenté par Blue Skies Turn Black\nTurbo Haus - 2040 R. Saint-Denis\, Montréal\, QC H2X 3K7\nGA // 18+\nPORTES: 19h30 // SPECTACLE: 20h30\n\nhttps://www.universe.com/events/youbet-tickets-LMXK2T\nhttps://www.facebook.com/events/3797046040431502
CLASS:PUBLIC
CATEGORIES:
STATUS:CONFIRMED
PARTSTAT:ACCEPTED
END:VEVENT
END:VCALENDAR
