BEGIN:VCALENDAR
PRODID:RAVE.CA V17.0
X-WR-CALNAME:DERYA YILDIRIM &amp; Amp; GRUP ŞIMŞEK, INVITÉ (E) S
X-ORIGINAL-URL:https://www.rave.ca/event/53509/
VERSION:2.0
CALSCALE:GREGORIAN
METHOD:PUBLISH
BEGIN:VEVENT
DTSTAMP:20260310T172330Z
LAST-MODIFIED:20260310T172330Z
CREATED:20260310T172316Z
SEQUENCE:53509
ORGANIZER:Unknown
DTSTART:20260616T200000Z
DTEND:20260616T200000Z
UID:event_53509@rave.ca
SUMMARY:DERYA YILDIRIM & Amp\; GRUP ŞIMŞEK\, INVITÉ (E) S
LOCATION:Bar le Ritz PDB
URL:https://www.rave.ca/event/53509/
DESCRIPTION:DERYA YILDIRIM & GRUP ŞIMŞEK\nhttps://deryayildirimgrupsimsek.com/\nINVITÉ(E)S\nPrésenté par Blue Skies Turn Black\nBar Le Ritz PDB - 179 Jean Talon Ouest - Montreal\n18+\nPORTES: 19h00 // SPECTACLE: 20h00\nEN VENTE VENDREDI 13 MARS À 10h00 // ON SALE FRIDAY MARCH 13TH AT 10:00AM\n\nhttps://www.universe.com/events/derya-yildirim-grup-simsek-tickets-GQ25BP\nhttps://www.facebook.com/events/1457727736382573
CLASS:PUBLIC
CATEGORIES:
STATUS:CONFIRMED
PARTSTAT:ACCEPTED
END:VEVENT
END:VCALENDAR
