BEGIN:VCALENDAR
PRODID:RAVE.CA V17.0
X-WR-CALNAME:◐◐◐ ÉQUINOXE 7.2 - Soleil Paradoxal - Party De Financement 2026 Du Bâtiment 7 !
X-ORIGINAL-URL:https://www.rave.ca/event/53507/
VERSION:2.0
CALSCALE:GREGORIAN
METHOD:PUBLISH
BEGIN:VEVENT
DTSTAMP:20260320T183019Z
LAST-MODIFIED:20260320T183019Z
CREATED:20260310T172255Z
SEQUENCE:53507
ORGANIZER:Unknown
DTSTART:20260321T170000Z
DTEND:20260322T060000Z
UID:event_53507@rave.ca
SUMMARY:◐◐◐ ÉQUINOXE 7.2 - Soleil Paradoxal - Party De Financement 2026 Du Bâtiment 7 !
LOCATION:Bâtiment 7
URL:https://www.rave.ca/event/53507/
DESCRIPTION:Le Bâtiment 7 est fébrile de vous convier à son extravagant party de financement annuel ! Le samedi 21 mars 2026\, laissez-vous subjuguer par l’éclat intrigant d’ÉQUINOXE 7.2 - Soleil Paradoxal !\n\nÉQUINOXE 7.2 – Soleil Paradoxal s’aventure dans les territoires de l’entre-deux\, là où naissent les états hybrides et les contradictions fécondes. On y danse à la frontière de l’ombre et de la lumière\, on célèbre les contrastes\, et on s'abandonne avec délice aux jeux d'illusion dans nos plus beaux atours! Que vous soyez sobres\, chics\, déjanté·e·s ou ostentatoires\, laissez vos habits rayonner de milles feux.\nCe rassemblement festif aux parfums de printemps n’est pas qu’un party ! Équinoxe 7 est un battement de cœur collectif\, un élan solidaire\, une promesse que l’on continue de se faire. Soutenir cet événement\, c’est célébrer l’autonomie collective\, prendre les rênes d’un destin choisi et nourrir\, goutte par goutte\, les réserves d’huile de coude qui font éclore les rêves d’une communauté entière. Répondez OUI à l’appel du Soleil Paradoxal ! Invitez votre monde\, investissez les lieux le temps d’une nuit magique — et peut-être pour de longues années à venir.
CLASS:PUBLIC
CATEGORIES:
STATUS:CONFIRMED
PARTSTAT:ACCEPTED
END:VEVENT
END:VCALENDAR
