BEGIN:VCALENDAR
PRODID:RAVE.CA V17.0
X-WR-CALNAME:✰ Strawberry Gothcake : GOVLINK, FUCKTHEPSYCHS, TRIFF, 2004 &amp; MORE ✰
X-ORIGINAL-URL:https://www.rave.ca/event/53495/
VERSION:2.0
CALSCALE:GREGORIAN
METHOD:PUBLISH
BEGIN:VEVENT
DTSTAMP:20260314T002944Z
LAST-MODIFIED:20260314T002944Z
CREATED:20260308T190725Z
SEQUENCE:53495
ORGANIZER:Unknown
DTSTART:20260328T230000Z
DTEND:20260329T060000Z
UID:event_53495@rave.ca
SUMMARY:✰ Strawberry Gothcake : GOVLINK\, FUCKTHEPSYCHS\, TRIFF\, 2004 & MORE ✰
LOCATION:Esc
URL:https://www.rave.ca/event/53495/
DESCRIPTION:TBA
CLASS:PUBLIC
CATEGORIES:
STATUS:CONFIRMED
PARTSTAT:ACCEPTED
END:VEVENT
END:VCALENDAR
