BEGIN:VCALENDAR
PRODID:RAVE.CA V17.0
X-WR-CALNAME:CONJUNCTION 306
X-ORIGINAL-URL:https://www.rave.ca/event/53476/
VERSION:2.0
CALSCALE:GREGORIAN
METHOD:PUBLISH
BEGIN:VEVENT
DTSTAMP:20260320T205900Z
LAST-MODIFIED:20260320T205900Z
CREATED:20260304T145743Z
SEQUENCE:53476
ORGANIZER:Unknown
DTSTART:20260321T180000Z
DTEND:20260322T060000Z
UID:event_53476@rave.ca
SUMMARY:CONJUNCTION 306
LOCATION:Breakglass Studio
URL:https://www.rave.ca/event/53476/
DESCRIPTION:CONJUNCTION 306\n\nThree collectives come together for a special 12-hour session.\n\nBonne Rave\, Electreal and Elephant unite for a night built around progression\, sound and atmosphere. From warm house grooves to deep progressive textures\, moving through tech house and reaching a late-night techno peak\, the night follows a carefully curated musical journey.\n\nA selection of sets will be recorded live\, capturing the energy of the room and the connection between DJs and dancers.\n\nExpect a focused dancefloor\, immersive lighting and a dedicated sound system designed for the space.\n\nLimited capacity event.\n\nMarch 21\, 2026\n6PM – 6AM
CLASS:PUBLIC
CATEGORIES:
STATUS:CONFIRMED
PARTSTAT:ACCEPTED
END:VEVENT
END:VCALENDAR
