BEGIN:VCALENDAR
PRODID:RAVE.CA V17.0
X-WR-CALNAME:Un Derriere Qui Fesse
X-ORIGINAL-URL:https://www.rave.ca/event/5335/
VERSION:2.0
CALSCALE:GREGORIAN
METHOD:PUBLISH
BEGIN:VEVENT
DTSTAMP:20050227T000000Z
LAST-MODIFIED:20050227T000000Z
CREATED:20041222T000000Z
SEQUENCE:5335
ORGANIZER:Unknown
DTSTART:20050311T000000Z
DTEND:20050311T000000Z
UID:event_5335@rave.ca
SUMMARY:Un Derriere Qui Fesse
LOCATION:Millenium\, Club
URL:https://www.rave.ca/event/5335/
DESCRIPTION:Les Vendredis un Derriere qui fesse. On recoit les filles jusqu'a 3 am et les gars jusqu'a minuit.
CLASS:PUBLIC
CATEGORIES:
STATUS:CONFIRMED
PARTSTAT:ACCEPTED
END:VEVENT
END:VCALENDAR
