BEGIN:VCALENDAR
PRODID:RAVE.CA V17.0
X-WR-CALNAME:RESOLUSON Vol. 2
X-ORIGINAL-URL:https://www.rave.ca/event/53078/
VERSION:2.0
CALSCALE:GREGORIAN
METHOD:PUBLISH
BEGIN:VEVENT
DTSTAMP:20260208T194322Z
LAST-MODIFIED:20260208T194322Z
CREATED:20260122T160334Z
SEQUENCE:53078
ORGANIZER:Unknown
DTSTART:20260206T220000Z
DTEND:20260207T030000Z
UID:event_53078@rave.ca
SUMMARY:RESOLUSON Vol. 2
LOCATION:La Récré
URL:https://www.rave.ca/event/53078/
DESCRIPTION:RESOLUSON Vol. 2\n\nFriday February 6th — 10pm to 3am\n\n \n\nRESOLUSON returns with an independent underground electronic night built around two distinct stages.\n\nOne stage dedicated to full-vinyl house selections.\nThe other exploring techno in its many forms\, through DJ sets and live electronic performances.\n\nBeyond the music\, RESOLUSON brings together arts (visual and live artists)\, scenography\, bodypainting\, tattoo and digital art\, shaping an immersive and carefully curated space.\n\nRESOLUSON is about sound quality\, artistic freedom and a respectful\, conscious dancefloor.
CLASS:PUBLIC
CATEGORIES:
STATUS:CONFIRMED
PARTSTAT:ACCEPTED
END:VEVENT
END:VCALENDAR
