BEGIN:VCALENDAR
PRODID:RAVE.CA V17.0
X-WR-CALNAME:D. Blavatsky All Night Long
X-ORIGINAL-URL:https://www.rave.ca/event/53077/
VERSION:2.0
CALSCALE:GREGORIAN
METHOD:PUBLISH
BEGIN:VEVENT
DTSTAMP:20260122T160328Z
LAST-MODIFIED:20260122T160328Z
CREATED:20260122T160319Z
SEQUENCE:53077
ORGANIZER:Unknown
DTSTART:20260130T220000Z
DTEND:20260131T060000Z
UID:event_53077@rave.ca
SUMMARY:D. Blavatsky All Night Long
LOCATION:Esc
URL:https://www.rave.ca/event/53077/
DESCRIPTION:★ JANUARY 30TH: D.BLAVATSKY XTENDED 5 HOUR DJ SET @ ESC  D.BLAVATSKY IS BACK FOR THE FOURTH INSTALLMENT OF THEIR ALL NITE RESIDENCY AT ESC. 5 HOURS OF NON-STOP BLAVATSKY: HARD TECHNO\, HARDCORE\, SCHRANZ\, UPTEMPO & MORE \n\nJOINING THE LINEUP ARE NONE OTHER THAN BEAMSKII AND FANGSIE.  COME JOIN MTLS HOTTEST RAVERS FOR A NITE OF HARD BASS AND PEAK DANCEFLOOR ENERGY- GRAB YOUR TICKETS BEFORE WE SELL OUT!  \n\nESC HAS AN X-TENDED BAR LICENSE AND WILL BE SERVING ALCOHOL UNTIL 6AM!  \n\nPOSTER: APHEX REDDITOR
CLASS:PUBLIC
CATEGORIES:
STATUS:CONFIRMED
PARTSTAT:ACCEPTED
END:VEVENT
END:VCALENDAR
