BEGIN:VCALENDAR
PRODID:RAVE.CA V17.0
X-WR-CALNAME:GRATIS
X-ORIGINAL-URL:https://www.rave.ca/event/53075/
VERSION:2.0
CALSCALE:GREGORIAN
METHOD:PUBLISH
BEGIN:VEVENT
DTSTAMP:20260119T235008Z
LAST-MODIFIED:20260119T235008Z
CREATED:20260117T154338Z
SEQUENCE:53075
ORGANIZER:Unknown
DTSTART:20260131T130000Z
DTEND:20260131T200000Z
UID:event_53075@rave.ca
SUMMARY:GRATIS
LOCATION:Viaduc Van Horne
URL:https://www.rave.ca/event/53075/
DESCRIPTION:Cocktail Sonore est fière de vous présenter une autre édition de sa Gratiss Hivernale. Viens te brasser le derrière à -20C sur les sons de l'underground.\n\nhttps://soundcloud.com/cocktail-sonore\n\nCocktail Sonore is proud to present another edition of its winter free party. Come shake your ass to the sounds of the underground in the heart of a snowstorm.
CLASS:PUBLIC
CATEGORIES:
STATUS:CONFIRMED
PARTSTAT:ACCEPTED
END:VEVENT
END:VCALENDAR
