BEGIN:VCALENDAR
PRODID:RAVE.CA V17.0
X-WR-CALNAME:Charlatan&#039;s Acid Birthday Rave
X-ORIGINAL-URL:https://www.rave.ca/event/53074/
VERSION:2.0
CALSCALE:GREGORIAN
METHOD:PUBLISH
BEGIN:VEVENT
DTSTAMP:20260117T002121Z
LAST-MODIFIED:20260117T002121Z
CREATED:20260117T001133Z
SEQUENCE:53074
ORGANIZER:Unknown
DTSTART:20260117T210000Z
DTEND:20260117T210000Z
UID:event_53074@rave.ca
SUMMARY:Charlatan's Acid Birthday Rave
LOCATION:La Récré
URL:https://www.rave.ca/event/53074/
DESCRIPTION:Une soirée d'acid music pour célébrer mes 30ans!! tout l'monde est le bienvenu 🥳\n\nTimeslots\n\n21h00 @ 00h00 - Dj Pygmé + Invité mystère\n\n00h00 @ 01h30 - Hashcode\n\n01h30 @ 03h00 - Deep N Acid\n\nPrix : 10$ avant 22h00\n          15$ apres 22h00
CLASS:PUBLIC
CATEGORIES:
STATUS:CONFIRMED
PARTSTAT:ACCEPTED
END:VEVENT
END:VCALENDAR
