BEGIN:VCALENDAR
PRODID:RAVE.CA V17.0
X-WR-CALNAME:Acid Dreams 7e Anniversaire
X-ORIGINAL-URL:https://www.rave.ca/event/52884/
VERSION:2.0
CALSCALE:GREGORIAN
METHOD:PUBLISH
BEGIN:VEVENT
DTSTAMP:20251209T011633Z
LAST-MODIFIED:20251209T011633Z
CREATED:20251208T203509Z
SEQUENCE:52884
ORGANIZER:Level 4 Productions
DTSTART:20251206T230000Z
DTEND:20251206T230000Z
UID:event_52884@rave.ca
SUMMARY:Acid Dreams 7e Anniversaire
LOCATION:Bar le Ritz PDB
URL:https://www.rave.ca/event/52884/
DESCRIPTION:
CLASS:PUBLIC
CATEGORIES:
STATUS:CONFIRMED
PARTSTAT:ACCEPTED
END:VEVENT
END:VCALENDAR
