BEGIN:VCALENDAR
PRODID:RAVE.CA V17.0
X-WR-CALNAME:CROSSFADE
X-ORIGINAL-URL:https://www.rave.ca/event/52883/
VERSION:2.0
CALSCALE:GREGORIAN
METHOD:PUBLISH
BEGIN:VEVENT
DTSTAMP:20251205T182330Z
LAST-MODIFIED:20251205T182330Z
CREATED:20251205T182313Z
SEQUENCE:52883
ORGANIZER:Unknown
DTSTART:20251219T210000Z
DTEND:20251220T060000Z
UID:event_52883@rave.ca
SUMMARY:CROSSFADE
LOCATION:Chinese Community & Cultural Centre
URL:https://www.rave.ca/event/52883/
DESCRIPTION:/ˈkrɒs.feɪd/ n. — 19.12.2025 // 21:00-late\n \nA night of intersection\, interference\, and slow transitions.\n\nThe evening begins with LIGNES DE FUITE’s research exhibition\, inviting the audience into the processes and ideas of rising designers and offering a chance to witness how new forms and perspectives take shape.\n\nGabriela Hébert presents a live experimental performance in which fashion\, dance\, electronics\, and soprano Michelle Bawden’s opera voice intertwine with PROCESS VISUAL  archival explorations\, guided by Ariane Levasseur’s movement direction in an evolving interplay of bodies\, sound\, and movement.\n\nNarrativ curates and closes the night\, turning the room into a darkish dancefloor as Matt Salaciak\, Anabasine\, Destiny\, and the Narrativ duo build momentum\, guiding the crowd deeper through the night.\n\n/ˈfiː.tʃər.ɪŋ/ v. — the artists shaping CROSSFADE:\n\nLIGNES DE FUITE / EXHIBITION    @charlizetherrien @byebyetiina @mr.hurt @illdavo_ @mayahann_ @adjective_plus_noun @ltzalle   @thom_prov @boneless.girl @leoluzolo @sophi.dumt\n\nGABRIELA HEBERT / PERFORMANCE @gab.a.hebert.sounds @michellebawden.soprano @alevassss  @trieuphongchung @louanne_rousseau @ellewiggless @des.jacinthes @ton.amour.marie @frederique_perron @camomille.scully @chatelaine.cr @clemencedinar @desiree.james @processvisual\n\nNARRATIV / RAVE @msalaciak  @anabasine @destiny.des.choix @meti.zo  @moaad__bkr
CLASS:PUBLIC
CATEGORIES:
STATUS:CONFIRMED
PARTSTAT:ACCEPTED
END:VEVENT
END:VCALENDAR
