BEGIN:VCALENDAR
PRODID:RAVE.CA V17.0
X-WR-CALNAME:Flip
X-ORIGINAL-URL:https://www.rave.ca/event/52876/
VERSION:2.0
CALSCALE:GREGORIAN
METHOD:PUBLISH
BEGIN:VEVENT
DTSTAMP:20251203T232857Z
LAST-MODIFIED:20251203T232857Z
CREATED:20251203T232844Z
SEQUENCE:52876
ORGANIZER:Unknown
DTSTART:20251213T090000Z
DTEND:20251214T030000Z
UID:event_52876@rave.ca
SUMMARY:Flip
LOCATION:Parquette 
URL:https://www.rave.ca/event/52876/
DESCRIPTION:Saturday #13dec25 Sunday #14dec15 // 22h-22h // parquette // $25-$35 presale
CLASS:PUBLIC
CATEGORIES:
STATUS:CONFIRMED
PARTSTAT:ACCEPTED
END:VEVENT
END:VCALENDAR
