BEGIN:VCALENDAR
PRODID:RAVE.CA V17.0
X-WR-CALNAME:House Nation Montreal 24 Hour Marathon
X-ORIGINAL-URL:https://www.rave.ca/event/52860/
VERSION:2.0
CALSCALE:GREGORIAN
METHOD:PUBLISH
BEGIN:VEVENT
DTSTAMP:20251203T232707Z
LAST-MODIFIED:20251203T232707Z
CREATED:20251203T232659Z
SEQUENCE:52860
ORGANIZER:Unknown
DTSTART:20251213T180000Z
DTEND:20251214T180000Z
UID:event_52860@rave.ca
SUMMARY:House Nation Montreal 24 Hour Marathon
LOCATION:Sainte-Catherine Hall
URL:https://www.rave.ca/event/52860/
DESCRIPTION:LA TRIBU HOUSE NATION MONTRÉAL VOUS APPELLE SUR LE PLANCHER DE DANSE. \n\nAprès le succès de notre première édition\, le cercle s'agrandit. Le défi est lancé : 24 heures de musique électronique en continu. Du crépuscule du samedi jusqu'au soir du dimanche\, la Tribu se rassemble pour une seule mission: assurer l'avenir de notre collectif.\n\nUN VOYAGE MUSICAL COMPLET\nPréparez-vous à une immersion totale. Nos artistes vous guideront à travers un spectre sonore riche et envoûtant\, conçu pour vous faire vibrer du début à la fin :\n\nPROGRESSIVE HOUSE • TECH HOUSE • MELODIC HOUSE & TECH • AFRO HOUSE\n\nPour maintenir la vibration pendant un tour d'horloge complet\, nous avons réuni 11 DJs\, piliers de la scène et étoiles montantes :\n\nCHARLES HAZ • CHRIS DE LA COSTA • CURSO • DAOU ! • DJ UPLOAD • DRAMIS • OXYGEN • REGOR • UN ZOO LE JOUR  + INVITÉ SPÉCIAL (TBC)\n\nUNE TRIBU SOLIDAIRE ET BÉNÉVOLE Cette édition est historique. Dans un élan de générosité incroyable\, l'intégralité de l'équipe travaille bénévolement. Les artistes\, l'équipe au bar\, le vestiaire et l'accueil offrent leur énergie pour que House Nation puisse continuer d'exister\n\nHORAIRE DU BAR & AMBIANCE:\n\n18h00 à 03h00 : BAR COMPLET On lance les festivités en force.\n03h00 à 08h00 : BAR EN MODE AFTERHOURS La musique ne s'arrête pas. On passe aux breuvages énergisants\, jus et hydratation pour les guerriers de la nuit.\n08h00 à 18h00 : BAR EN MODE "DAYLIGHT" Le soleil se lève\, le bar rouvre ses vannes en mode "Daylight" jusqu'à la fin !\n\nLE PACTE COMMUNAUTAIRE: 15$ + DONS L'accès au rituel doit être possible pour tous :\nLE BILLET (15$) ET DONS : 100% des profits vont à House Nation Montréal. \n\nLors de l'achat de votre billet\, vous aurez l'option d'ajouter un don volontaire pour soutenir davantage la cause.\n\nLES POURBOIRES (TIPS) : Puisque le staff travaille gratuitement\, 100% des pourboires vont aux bénévoles. Soyez généreux avec ceux qui vous servent\, que ce soit pour un cocktail ou une bouteille d'eau !
CLASS:PUBLIC
CATEGORIES:
STATUS:CONFIRMED
PARTSTAT:ACCEPTED
END:VEVENT
END:VCALENDAR
