BEGIN:VCALENDAR
PRODID:RAVE.CA V17.0
X-WR-CALNAME:RAVOLUTION 2026
X-ORIGINAL-URL:https://www.rave.ca/event/52842/
VERSION:2.0
CALSCALE:GREGORIAN
METHOD:PUBLISH
BEGIN:VEVENT
DTSTAMP:20251203T232533Z
LAST-MODIFIED:20251203T232533Z
CREATED:20251203T232526Z
SEQUENCE:52842
ORGANIZER:Unknown
DTSTART:20251231T230000Z
DTEND:20260101T110000Z
UID:event_52842@rave.ca
SUMMARY:RAVOLUTION 2026
LOCATION:Chinese Community & Cultural Centre
URL:https://www.rave.ca/event/52842/
DESCRIPTION:Noreiner Presente - RAVOLUTION 2026 \n\nThe Earth's revolution is the path that the Earth takes around the Sun in one year\, or 365.25 days. Noreiner invites you to come celebrate this rotation with a rave won't forget for a while...\n\n    2 Stages\n    Stage Noreiner :  Fast / Hard Techno Trance\n    Stage Tech Me Out : Groovy House / Eurotrance / Psytrance\n    Bar all night long\n    11 pm - 11am\n\n--------------------------------------------------------------------\n\nxxx Stage Noreiner xxx\n\n- POM\n- Deep N Acid (live)\n- Ccil B2B Meen Moreen\n- Enamor B2B Jog Mode\n- Mistingo   \n\n\nxxx Stage TMO xxx\n\n  - Badgalquirit\n- Fastnsoft\n- DJĀY B2B Indy\n- Unplugged\n- Mons\n\n----------------------------------------------\n\n\n5 min by walk from an underground station (orange line)\n\n11pm - 11am\n\nNo BYOB / Full bar on site all night long (extended alcohol permit) \n\nCredit - Debit - cash\n\nNo phone - No shirtless\n\n18+ Mandatory ID check\n\nThanks to our sponsors : Tsar print shop / Symmetry / Pabst\n\nZero tolerance to any form of discrimination\, aggressiveness\, harassement and vandalism
CLASS:PUBLIC
CATEGORIES:
STATUS:CONFIRMED
PARTSTAT:ACCEPTED
END:VEVENT
END:VCALENDAR
