BEGIN:VCALENDAR
PRODID:RAVE.CA V17.0
X-WR-CALNAME:IGLOOFEST EDM #3: Deadmau5, TDJ, Mikey Wong
X-ORIGINAL-URL:https://www.rave.ca/event/52829/
VERSION:2.0
CALSCALE:GREGORIAN
METHOD:PUBLISH
BEGIN:VEVENT
DTSTAMP:20260304T150214Z
LAST-MODIFIED:20260304T150214Z
CREATED:20251129T183048Z
SEQUENCE:52829
ORGANIZER:Unknown
DTSTART:20260314T190000Z
DTEND:20260314T230000Z
UID:event_52829@rave.ca
SUMMARY:IGLOOFEST EDM #3: Deadmau5\, TDJ\, Mikey Wong
LOCATION:TBA - ICE District
URL:https://www.rave.ca/event/52829/
DESCRIPTION:National Bank presents Igloofest Edmonton in collaboration with Fizz.\nIGLOOFEST EDMONTON #3 | 03/14/2026 | 7:00pm to 11pm\n\nFan park @ ICE District\nSaturday\, March 14\, 2026\n\nNational Bank Stage\ndeadmau5\nTDJ\nMikey Wong\n\nProduced by OEG Sports & Entertainement and Multicolore / Line-up by (Avec) Courage\n\nTHANKS TO OUR PARTNERS\nNational Bank | Fizz | Sapporo | Multicolore | (Avec) Courage | OEG Sports & Entertainment | Boodang
CLASS:PUBLIC
CATEGORIES:
STATUS:CONFIRMED
PARTSTAT:ACCEPTED
END:VEVENT
END:VCALENDAR
