BEGIN:VCALENDAR
PRODID:RAVE.CA V17.0
X-WR-CALNAME:LUMINARIUM 02 🪐 BAIN MATHIEU || ALL NIGHT
X-ORIGINAL-URL:https://www.rave.ca/event/52823/
VERSION:2.0
CALSCALE:GREGORIAN
METHOD:PUBLISH
BEGIN:VEVENT
DTSTAMP:20251129T183025Z
LAST-MODIFIED:20251129T183025Z
CREATED:20251129T183017Z
SEQUENCE:52823
ORGANIZER:Unknown
DTSTART:20260227T210000Z
DTEND:20260228T090000Z
UID:event_52823@rave.ca
SUMMARY:LUMINARIUM 02 🪐 BAIN MATHIEU || ALL NIGHT
LOCATION:Bain Mathieu
URL:https://www.rave.ca/event/52823/
DESCRIPTION:🎟️🎟️ BILLETS 👉🏼 urlr.me/7j6g3s 🎟️🎟️\nPhase 1 : 45$……….SOLD OUT❗️\nPhase 2 : 55$……….En Cours\nPhase 3 : 65$……….\nPorte : 75$………\n⚠️ CAPACITÉ LIMITÉE / SEULEMENT 650 BILLETS. SOUVENT SOLD OUT❗️\n🪐 LUMINARIUM — 2e Édition\n⭐️✨Prélude de la Nuit Blanche de Mtl ✨⭐️\nAu légendaire Bain Mathieu.\nC’est confirmé : notre nuit blanche hivernale fera son grand retour pour une deuxième édition !!\n\n— La nuit\, tout devient possible. Et notre iconique Nuit Blanche décuple les possibilités.\nPour une année consécutive\, le Bain Mathieu se réinvente avec LUMINARIUM — Laboratoire de lumière. ✨\nLUMINARIUM propose une fusion palpable entre deux deux scènes dominantes de la musique électronique underground à Montréal. Aux commandes : une sélection de Lives act et DJs TECHNΟ & PSYTRANCE pour une nuit entière de métamorphose sonore.\nAprès plus de vingt ans de soirées emblématiques\, cet ancien bain public mythique — où vous avez sans doute dansé jusqu’à l’aube — amorce le prélude du weekend le plus vibrant de l’année avec un sanctuaire expérimental : un laboratoire où le réel se déconstruit et le numérique prend le pouvoir.\nMédias interactifs\, projections lumineuses\, lasers dynamiques\, écrans géants\, performances conceptuelles.\nUne réalité hybride et trance-disciplinaire\, où le chaos trouve son ordre.\nPour ceux qui dansent dans la lumière\, ceux qui la créent\, ceux qui cherchent et ceux qui s'égarent joyeusement : venez ouvrir le bal de la Nuit Blanche avec nous\, en compagnie des légendes de la vieille école et des étoiles montantes montréalaises. La maison vous appelle...\n\n🎶🎵🎶 L I N E U P 🎶🎵🎶\n\n💥 FM RADIO GODS – DIGITAL STRUCTURES\, LIVE ACT !!\nhttps://www.fmradiogods.com/discography/\n\n💥 VIRTUAL LIGHT – ZERO1 MUSIC\, LIVE ACT !!\nhttps://m.soundcloud.com/virtual-light\n\n💥 DIGITAL COMMITTEE – DIGITAL STRUCTURES\, LIVE ACT !!\nhttps://m.soundcloud.com/digitalcommittee\n\n💥 TRANSPOSE – IONO MUSIC\, LIVE ACT!!\nhttps://m.soundcloud.com/transpose07\n\n💥 LARA S – ALPAKA MUZIK\nhttps://soundcloud.com/lara_smusik\n\n💥 DEADLINER – TECHGNOSIS RECORDS\nhttps://soundcloud.com/deadlinerspins\n\n💥 OMNI – DIGITAL STRUCTURES\, TECHGNOSIS RECORDS\nhttps://soundcloud.com/omni\n\n💥 CHACHA – LONEWOLFE\nhttps://soundcloud.com/chacha_mtl\n\n💥 YGRIEGA – OUI-R1\, SPIRALE PROD.\nhttps://www.mixcloud.com/yohanygriega9/\n\n💥 CRYPTEK – ABDUCTION TALES\, DIVINITY RECORDS\nhttps://m.soundcloud.com/djcryptek\n\n💥 DRAWGONE – DIATONIC RECORDS\nhttps://m.soundcloud.com/drawgone\n\n💥 KRØNØFRØST – ABDUCTION TALES\, DIVINITY RECORDS\nhttps://m.soundcloud.com/kronofrost\n\n💥 GAZÉLEKTRIK – ALCHEMIST PACT\nhttps://m.soundcloud.com/gazelektrik\n\n💥 MUKUNDA – ANCIENT OM PROD\, DACRU RECORDS\,\nhttps://m.soundcloud.com/mukunda_official\n\n💥XAENOMØRPH – ALPAKA MUZIK\nhttps://m.soundcloud.com/xaenomorph\n\n💥 ÄNIMÄ – OUI-R1\, DJ SCHOOL MTL\n\n💥 MME. S VS TENZIN\, MONTRÉAL\nhttps://m.soundcloud.com/mme_s\n\n💥 INSOMNIC – QUÉBEC\nhttps://m.soundcloud.com/insomnica\n\n▪️◻️▪️◻️▪️◻️▪️◻️▪️◻️▪️◻️▪️◻️▪️\n\n💃🏼🪩🕺🏽 2 DANCE FLOORS / 2 AMBIANCES\n🎶 TECHNO – PROG – PSYTECH – PSYTRANCE – MID TEMPO\n🔮 DÉCO PAR LUNOSOL ~ CANOPY + STAGE DESIGN\n🎥 MAPPING VIDÉO & PROJECTION VISUELLE\n🤡 ANIMATION ET PERFORMANCE DE CIRQUE\n🎪 DÉCOR IMMERSIF\n💎 SHOW DE LAZER\n🎨 BODY PAINTING\n❤️‍🩹 HEALING & MASSAGE THÉRAPEUTIQUE\n🪬 KIOSQUE DE CRÉATEURS LOCAUX\n🍸 BAR 9PM @ 6AM || SPÉCIAL NUIT BLANCHE 🎉🎉\n🕰️ 21pm- 9am\n🍭 🍬 PLUS DE SURPRISE À VENIR 🍬🍭
CLASS:PUBLIC
CATEGORIES:
STATUS:CONFIRMED
PARTSTAT:ACCEPTED
END:VEVENT
END:VCALENDAR
